BEGIN:VCALENDAR
VERSION:2.0
PRODID:-//Sabre//Sabre VObject 4.5.8//EN
CALSCALE:GREGORIAN
BEGIN:VEVENT
UID:sabre-vobject-4a31f0af-fc06-4bb7-90fc-61b939151e39
DTSTAMP:20260423T113310Z
SUMMARY:Couple of the Court
DESCRIPTION:For more information\, please click HERE.\n
X-ALT-DESC:FMTTYPE=text/html:<!DOCTYPE HTML PUBLIC "-//W3C//DTD HTML 3.2//E
 N"><HTML><p>For more information\, please click <a href="https://torii.arm
 ymwr.com/download_file/view/cfc3204d-d4e1-4c18-8cfe-2ce64b9e14fb">HERE</a>
 .</p>\n</HTML>
CREATED;TZID=Asia/Tokyo:20250121T155012
URL;VALUE=URI:https://torii.armymwr.com/calendar/event
DTSTART;TZID=Asia/Tokyo:20250215T090000
DTEND;TZID=Asia/Tokyo:20250215T120000
SEQUENCE:0
END:VEVENT
END:VCALENDAR
