BEGIN:VCALENDAR
VERSION:2.0
PRODID:-//Sabre//Sabre VObject 4.5.8//EN
CALSCALE:GREGORIAN
BEGIN:VEVENT
UID:sabre-vobject-aba09789-699a-42fb-b4a2-41755d0521c3
DTSTAMP:20260424T063902Z
SUMMARY:Get ready to experience the thrills of off-road mountain biking!
DESCRIPTION:Don&#39\;t miss out &mdash\; sign up now!\n
X-ALT-DESC:FMTTYPE=text/html:<!DOCTYPE HTML PUBLIC "-//W3C//DTD HTML 3.2//E
 N"><HTML><p>Don&#39\;t miss out &mdash\; sign up now!</p>\n</HTML>
CREATED;TZID=Asia/Tokyo:20241125T111158
URL;VALUE=URI:https://torii.armymwr.com/calendar/event
DTSTART;TZID=Asia/Tokyo:20241207T100000
DTEND;TZID=Asia/Tokyo:20241207T120000
SEQUENCE:0
END:VEVENT
BEGIN:VEVENT
UID:sabre-vobject-1dcb5ab2-e8fc-4aa9-aefc-503c119eefc6
DTSTAMP:20260424T063902Z
SUMMARY:Get ready to experience the thrills of off-road mountain biking!
DESCRIPTION:Don&#39\;t miss out &mdash\; sign up now!\n
X-ALT-DESC:FMTTYPE=text/html:<!DOCTYPE HTML PUBLIC "-//W3C//DTD HTML 3.2//E
 N"><HTML><p>Don&#39\;t miss out &mdash\; sign up now!</p>\n</HTML>
CREATED;TZID=Asia/Tokyo:20241125T111158
URL;VALUE=URI:https://torii.armymwr.com/calendar/event
DTSTART;TZID=Asia/Tokyo:20241214T100000
DTEND;TZID=Asia/Tokyo:20241214T120000
SEQUENCE:1
END:VEVENT
END:VCALENDAR
