BEGIN:VCALENDAR
VERSION:2.0
PRODID:-//Sabre//Sabre VObject 4.5.8//EN
CALSCALE:GREGORIAN
BEGIN:VEVENT
UID:sabre-vobject-9102edd6-d5b9-4a89-b2c0-d2a326dea94c
DTSTAMP:20260425T005207Z
SUMMARY:Torii Arts & Crafts November Classes
DESCRIPTION:
X-ALT-DESC:FMTTYPE=text/html:<!DOCTYPE HTML PUBLIC "-//W3C//DTD HTML 3.2//E
 N"><HTML></HTML>
CREATED;TZID=Asia/Tokyo:20241028T132036
URL;VALUE=URI:https://torii.armymwr.com/calendar/event
DTSTART;TZID=Asia/Tokyo:20241109T100000
DTEND;TZID=Asia/Tokyo:20241109T120000
SEQUENCE:0
END:VEVENT
BEGIN:VEVENT
UID:sabre-vobject-883b7c1a-2ac5-4990-9e8d-9035fe246e90
DTSTAMP:20260425T005207Z
SUMMARY:Torii Arts & Crafts November Classes
DESCRIPTION:
X-ALT-DESC:FMTTYPE=text/html:<!DOCTYPE HTML PUBLIC "-//W3C//DTD HTML 3.2//E
 N"><HTML></HTML>
CREATED;TZID=Asia/Tokyo:20241028T132036
URL;VALUE=URI:https://torii.armymwr.com/calendar/event
DTSTART;TZID=Asia/Tokyo:20241123T100000
DTEND;TZID=Asia/Tokyo:20241123T120000
SEQUENCE:1
END:VEVENT
END:VCALENDAR
