BEGIN:VCALENDAR
VERSION:2.0
PRODID:-//Sabre//Sabre VObject 4.5.8//EN
CALSCALE:GREGORIAN
BEGIN:VEVENT
UID:sabre-vobject-e707f73b-0eda-4360-9d7e-191f4c72218f
DTSTAMP:20260425T005206Z
SUMMARY:Lunch Buffet
DESCRIPTION:
X-ALT-DESC:FMTTYPE=text/html:<!DOCTYPE HTML PUBLIC "-//W3C//DTD HTML 3.2//E
 N"><HTML></HTML>
CREATED;TZID=Asia/Tokyo:20241021T144447
URL;VALUE=URI:https://torii.armymwr.com/calendar/event
DTSTART;TZID=Asia/Tokyo:20241023T110000
DTEND;TZID=Asia/Tokyo:20241023T013000
SEQUENCE:0
END:VEVENT
BEGIN:VEVENT
UID:sabre-vobject-043115a5-264f-454b-b07a-3bb50363ea77
DTSTAMP:20260425T005206Z
SUMMARY:Lunch Buffet
DESCRIPTION:
X-ALT-DESC:FMTTYPE=text/html:<!DOCTYPE HTML PUBLIC "-//W3C//DTD HTML 3.2//E
 N"><HTML></HTML>
CREATED;TZID=Asia/Tokyo:20241021T144447
URL;VALUE=URI:https://torii.armymwr.com/calendar/event
DTSTART;TZID=Asia/Tokyo:20241030T110000
DTEND;TZID=Asia/Tokyo:20241030T133000
SEQUENCE:1
END:VEVENT
BEGIN:VEVENT
UID:sabre-vobject-7a191449-815f-4618-9080-78731b9c5058
DTSTAMP:20260425T005206Z
SUMMARY:Lunch Buffet
DESCRIPTION:
X-ALT-DESC:FMTTYPE=text/html:<!DOCTYPE HTML PUBLIC "-//W3C//DTD HTML 3.2//E
 N"><HTML></HTML>
CREATED;TZID=Asia/Tokyo:20241021T144447
URL;VALUE=URI:https://torii.armymwr.com/calendar/event
DTSTART;TZID=Asia/Tokyo:20241106T110000
DTEND;TZID=Asia/Tokyo:20241106T133000
SEQUENCE:2
END:VEVENT
BEGIN:VEVENT
UID:sabre-vobject-eac371b4-9a86-4db0-8b38-d3121c8a826b
DTSTAMP:20260425T005206Z
SUMMARY:Lunch Buffet
DESCRIPTION:
X-ALT-DESC:FMTTYPE=text/html:<!DOCTYPE HTML PUBLIC "-//W3C//DTD HTML 3.2//E
 N"><HTML></HTML>
CREATED;TZID=Asia/Tokyo:20241021T144447
URL;VALUE=URI:https://torii.armymwr.com/calendar/event
DTSTART;TZID=Asia/Tokyo:20241113T110000
DTEND;TZID=Asia/Tokyo:20241113T133000
SEQUENCE:3
END:VEVENT
BEGIN:VEVENT
UID:sabre-vobject-58be49f4-7fc3-45f5-a33c-dba27e129c93
DTSTAMP:20260425T005206Z
SUMMARY:Lunch Buffet
DESCRIPTION:
X-ALT-DESC:FMTTYPE=text/html:<!DOCTYPE HTML PUBLIC "-//W3C//DTD HTML 3.2//E
 N"><HTML></HTML>
CREATED;TZID=Asia/Tokyo:20241021T144447
URL;VALUE=URI:https://torii.armymwr.com/calendar/event
DTSTART;TZID=Asia/Tokyo:20241120T110000
DTEND;TZID=Asia/Tokyo:20241120T133000
SEQUENCE:4
END:VEVENT
END:VCALENDAR
