BEGIN:VCALENDAR
VERSION:2.0
PRODID:-//Sabre//Sabre VObject 4.5.8//EN
CALSCALE:GREGORIAN
BEGIN:VEVENT
UID:sabre-vobject-529f3c22-7e35-4328-a85d-a79cf79141d4
DTSTAMP:20260422T011053Z
SUMMARY:Star Wars 5.4K Fun Run
DESCRIPTION:
X-ALT-DESC:FMTTYPE=text/html:<!DOCTYPE HTML PUBLIC "-//W3C//DTD HTML 3.2//E
 N"><HTML></HTML>
CREATED;TZID=Asia/Tokyo:20190419T123426
URL;VALUE=URI:https://torii.armymwr.com/calendar/event
DTSTART;TZID=Asia/Tokyo:20190504T080000
DTEND;TZID=Asia/Tokyo:20190504T100000
SEQUENCE:0
END:VEVENT
END:VCALENDAR
