BEGIN:VCALENDAR
VERSION:2.0
PRODID:-//Sabre//Sabre VObject 4.5.8//EN
CALSCALE:GREGORIAN
BEGIN:VEVENT
UID:sabre-vobject-60e4fe4e-703f-4c53-986d-27f2d9c4894f
DTSTAMP:20260422T093430Z
SUMMARY:Celebrate Cinco de Mayo at Havana's!
DESCRIPTION:
X-ALT-DESC:FMTTYPE=text/html:<!DOCTYPE HTML PUBLIC "-//W3C//DTD HTML 3.2//E
 N"><HTML></HTML>
CREATED;TZID=Asia/Tokyo:20190416T163747
URL;VALUE=URI:https://torii.armymwr.com/calendar/event
DTSTART;TZID=Asia/Tokyo:20190503T110000
DTEND;TZID=Asia/Tokyo:20190503T140000
SEQUENCE:0
END:VEVENT
END:VCALENDAR
