BEGIN:VCALENDAR
VERSION:2.0
PRODID:-//Sabre//Sabre VObject 4.5.8//EN
CALSCALE:GREGORIAN
BEGIN:VEVENT
UID:sabre-vobject-23431755-a79e-4138-9203-92600193b113
DTSTAMP:20260421T013054Z
SUMMARY:St. Patrick's Day 5K Color Run
DESCRIPTION:
X-ALT-DESC:FMTTYPE=text/html:<!DOCTYPE HTML PUBLIC "-//W3C//DTD HTML 3.2//E
 N"><HTML></HTML>
CREATED;TZID=Asia/Tokyo:20260227T154553
URL;VALUE=URI:https://torii.armymwr.com/calendar/event
DTSTART;TZID=Asia/Tokyo:20260314T103000
DTEND;TZID=Asia/Tokyo:20260314T000000
SEQUENCE:0
END:VEVENT
END:VCALENDAR
