BEGIN:VCALENDAR
VERSION:2.0
PRODID:-//Sabre//Sabre VObject 4.5.8//EN
CALSCALE:GREGORIAN
BEGIN:VEVENT
UID:sabre-vobject-22319749-1fb6-453f-a715-7ba8e34fb4d4
DTSTAMP:20260420T185110Z
SUMMARY:Easter Bunny Painting Workshop
DESCRIPTION:
X-ALT-DESC:FMTTYPE=text/html:<!DOCTYPE HTML PUBLIC "-//W3C//DTD HTML 3.2//E
 N"><HTML></HTML>
CREATED;TZID=Asia/Tokyo:20260227T153340
URL;VALUE=URI:https://torii.armymwr.com/calendar/event
DTSTART;TZID=Asia/Tokyo:20260328T100000
DTEND;TZID=Asia/Tokyo:20260328T120000
SEQUENCE:0
END:VEVENT
END:VCALENDAR
