BEGIN:VCALENDAR
VERSION:2.0
PRODID:-//Sabre//Sabre VObject 4.5.8//EN
CALSCALE:GREGORIAN
BEGIN:VEVENT
UID:sabre-vobject-ed5df604-a143-4774-9b45-56a831198533
DTSTAMP:20260421T073300Z
SUMMARY:Stencil Chalk Art Workshop
DESCRIPTION:
X-ALT-DESC:FMTTYPE=text/html:<!DOCTYPE HTML PUBLIC "-//W3C//DTD HTML 3.2//E
 N"><HTML></HTML>
CREATED;TZID=Asia/Tokyo:20260227T153229
URL;VALUE=URI:https://torii.armymwr.com/calendar/event
DTSTART;TZID=Asia/Tokyo:20260321T100000
DTEND;TZID=Asia/Tokyo:20260321T120000
SEQUENCE:0
END:VEVENT
END:VCALENDAR
