BEGIN:VCALENDAR
VERSION:2.0
PRODID:-//Sabre//Sabre VObject 4.5.8//EN
CALSCALE:GREGORIAN
BEGIN:VEVENT
UID:sabre-vobject-053d9007-c7f3-42dd-9168-a19c9a717aa8
DTSTAMP:20260421T013054Z
SUMMARY:Men Shisa Making Workshop
DESCRIPTION:
X-ALT-DESC:FMTTYPE=text/html:<!DOCTYPE HTML PUBLIC "-//W3C//DTD HTML 3.2//E
 N"><HTML></HTML>
CREATED;TZID=Asia/Tokyo:20260227T153022
URL;VALUE=URI:https://torii.armymwr.com/calendar/event
DTSTART;TZID=Asia/Tokyo:20260314T100000
DTEND;TZID=Asia/Tokyo:20260314T120000
SEQUENCE:0
END:VEVENT
END:VCALENDAR
