BEGIN:VCALENDAR
VERSION:2.0
PRODID:-//Sabre//Sabre VObject 4.5.8//EN
CALSCALE:GREGORIAN
BEGIN:VEVENT
UID:sabre-vobject-c3e1189b-f3ef-42a7-af78-ed9ea93002f8
DTSTAMP:20260424T161500Z
SUMMARY:MIG Welding Class
DESCRIPTION:
X-ALT-DESC:FMTTYPE=text/html:<!DOCTYPE HTML PUBLIC "-//W3C//DTD HTML 3.2//E
 N"><HTML></HTML>
CREATED;TZID=Asia/Tokyo:20260108T103242
URL;VALUE=URI:https://torii.armymwr.com/calendar/event
DTSTART;TZID=Asia/Tokyo:20260108T143000
DTEND;TZID=Asia/Tokyo:20260108T160000
SEQUENCE:0
END:VEVENT
END:VCALENDAR
